BEGIN:VCALENDAR
VERSION:2.0
PRODID:-//wp-events-plugin.com//7.2.3.1//EN
TZID:Europe/Paris
X-WR-TIMEZONE:Europe/Paris
BEGIN:VEVENT
UID:72@audax-club-parisien.com
DTSTART;TZID=Europe/Paris:20240907T080000
DTEND;TZID=Europe/Paris:20240907T090000
DTSTAMP:20240828T180149Z
URL:https://www.audax-club-parisien.com/events/sortie-gravel-de-rentree/
SUMMARY:Sortie Gravel de rentrée
DESCRIPTION:A l’occasion du départ du Brevet Gravel Tourmagne\, samedi 7
  septembre de Melun\, nous proposons une sortie gravel gratuite\, ouverte 
 à toutes et à tous&nbsp\;:\n\n 	2 parcours empruntant le début de la tr
 ace du Tourmagne puis revenant au départ &nbsp\;: 90km et 40km\n 	Petite 
 collation offerte au départ et à l’arrivée (accueil de 7h30 à 16h)\n
  	Inscription gratuite mais obligatoire en remplissant le formulaire suiva
 nt&nbsp\;:&nbsp\;Inscription sortie de la journée\n 	Nombre limité à 10
 0 personnes.\n 	Possibilité de rouler avec des membres de l’Audax Club 
 Parisien ou en solo selon vos envies.\n 	Boucles au départ et à l’arri
 vée de la salle polyvalente de l’espace sportif Jacques Marinelli\, 2 r
 ue Doré\, 77000 Melun\n\nParcours 90km&nbsp\;: départ 8h à 9h (en même
  temps que le Brevet Gravel Tourmagne)\n\n\n&nbsp\;\n\nParcours 40km&nbsp\
 ;: départ 9h à 10h&nbsp\;\n\n\n&nbsp\;\n\nMerci à Guillaume Barbey pour
  les traces et à Pierre Gouyou Beauchamps pour la photo &nbsp\;!
ATTACH;FMTTYPE=image/jpeg:https://www.audax-club-parisien.com/wp-content/u
 ploads/2024/08/Capture-decran-2024-08-26-a-21.40.54.png
CATEGORIES:Evénement,Initiation,Sortie Club
LOCATION:Salle polyvalente de l’espace sportif Jacques Marinelli\, 2 rue 
 doré\, Melun\, 77000\, France
X-APPLE-STRUCTURED-LOCATION;VALUE=URI;X-ADDRESS=2 rue doré\, Melun\, 77000
 \, France;X-APPLE-RADIUS=100;X-TITLE=Salle polyvalente de l’espace sport
 if Jacques Marinelli:geo:0,0
END:VEVENT
BEGIN:VTIMEZONE
TZID:Europe/Paris
X-LIC-LOCATION:Europe/Paris
BEGIN:DAYLIGHT
DTSTART:20240331T030000
TZOFFSETFROM:+0100
TZOFFSETTO:+0200
TZNAME:CEST
END:DAYLIGHT
END:VTIMEZONE
END:VCALENDAR