BEGIN:VCALENDAR
VERSION:2.0
PRODID:-//wp-events-plugin.com//7.2.3.1//EN
TZID:Europe/Paris
X-WR-TIMEZONE:Europe/Paris
BEGIN:VEVENT
UID:81@audax-club-parisien.com
DTSTART;TZID=Europe/Paris:20250111T143000
DTEND;TZID=Europe/Paris:20250111T190000
DTSTAMP:20241210T211725Z
URL:https://www.audax-club-parisien.com/events/remise-des-recompenses-de-l
 acp-2025/
SUMMARY:🎉 Voeux et remise des récompenses de l'ACP
DESCRIPTION:&nbsp\;Les membres de l’Audax Club Parisien Randonneur et son
  président sont heureux&nbsp\;\nde vous adresser leurs meilleurs vœux&nb
 sp\;pour l’année 2025&nbsp\;\nL’Audax Club Parisien serait très hono
 ré de votre présence à la remise des récompenses pour l’année 2024\
 n&nbsp\;\n\nCarton d invitation remise récompenses 2025
ATTACH;FMTTYPE=image/jpeg:https://www.audax-club-parisien.com/wp-content/u
 ploads/2024/09/Capture-decran-2024-12-10-a-21.12.26.png
CATEGORIES:Evénement
LOCATION:Espace Charenton\, 327 rue de Charenton\, PARIS\, 75012\, France
X-APPLE-STRUCTURED-LOCATION;VALUE=URI;X-ADDRESS=327 rue de Charenton\, PARI
 S\, 75012\, France;X-APPLE-RADIUS=100;X-TITLE=Espace Charenton:geo:0,0
END:VEVENT
BEGIN:VTIMEZONE
TZID:Europe/Paris
X-LIC-LOCATION:Europe/Paris
BEGIN:STANDARD
DTSTART:20241027T020000
TZOFFSETFROM:+0200
TZOFFSETTO:+0100
TZNAME:CET
END:STANDARD
END:VTIMEZONE
END:VCALENDAR