BEGIN:VCALENDAR
VERSION:2.0
PRODID:-//wp-events-plugin.com//7.2.3.1//EN
TZID:Europe/Paris
X-WR-TIMEZONE:Europe/Paris
BEGIN:VEVENT
UID:111@audax-club-parisien.com
DTSTART;TZID=Europe/Paris:20250518T083000
DTEND;TZID=Europe/Paris:20250518T163000
DTSTAMP:20250517T153328Z
URL:https://www.audax-club-parisien.com/events/initiation-longue-distance-
 sortie-2/
SUMMARY:Initiation longue distance - sortie 2
DESCRIPTION:Cette fois-çi\, on augmente la distance et on vise 140km.&nbsp
 \;\n\nDépart au vélodrôme Jacques Anquetil. On part dans le sud est à 
 la découverte de belles petites routes champêtres.\n\n\n\nVous devez êt
 re autonome en terme de réparation courante (crevaison notamment)\, de bo
 isson\, de nourriture\, d’éclairage. Merci de venir avec un vélo adapt
 é et en bon état (transmission\, pneus\, freins). Le port du casque est 
 très vivement recommandé. La sortie est gratuite et ouverte à toutes et
  à tous\, encadrée par les bénévoles de l’ACP.\n\nPhotos : Cyril Ent
 zmann\n\n[caption id="attachment_11448" align="alignnone" width="300"] Sor
 tie découverte en vallée de Chevreuse " Les Côtes qui piquent" encadré
  par l'Audax Club Parisien. Paris-Chevreuse\, 24 mars 2024.[/caption]
ATTACH;FMTTYPE=image/jpeg:https://www.audax-club-parisien.com/wp-content/u
 ploads/2025/03/Sortie-Decouverte-ACP-018.jpg
CATEGORIES:Initiation
LOCATION:Vélodrôme Jacques Anquetil\, 51 Av. de Gravelle\, PARIS\, Ile-De
 -France\, 75012\, France
GEO:-0.018246;0.039058
X-APPLE-STRUCTURED-LOCATION;VALUE=URI;X-ADDRESS=51 Av. de Gravelle\, PARIS\
 , Ile-De-France\, 75012\, France;X-APPLE-RADIUS=100;X-TITLE=Vélodrôme Ja
 cques Anquetil:geo:-0.018246,0.039058
END:VEVENT
BEGIN:VTIMEZONE
TZID:Europe/Paris
X-LIC-LOCATION:Europe/Paris
BEGIN:DAYLIGHT
DTSTART:20250330T030000
TZOFFSETFROM:+0100
TZOFFSETTO:+0200
TZNAME:CEST
END:DAYLIGHT
END:VTIMEZONE
END:VCALENDAR