BEGIN:VCALENDAR
VERSION:2.0
PRODID:-//wp-events-plugin.com//7.2.3.1//EN
TZID:Europe/Paris
X-WR-TIMEZONE:Europe/Paris
BEGIN:VEVENT
UID:108@audax-club-parisien.com
DTSTART;TZID=Europe/Paris:20250413T090000
DTEND;TZID=Europe/Paris:20250413T150000
DTSTAMP:20250412T161225Z
URL:https://www.audax-club-parisien.com/events/initiation-longue-distance-
 sortie-1/
SUMMARY:Initiation longue distance - sortie 1
DESCRIPTION:Réservez la date. Nous\, on vous prépare une trace de 100 km 
 tout plat ! Si vous hésitez à passer le cap des 100km\, cette sortie est
  faite pour vous.\n\nDépart à 9h à la Rotonde. Venez à 8h45 maximum\, 
 car nous prendrons un temps avant de partir pour donner les consignes de r
 oulage.&nbsp\;\n\nLa trace pour indication. Le parcours est à jour\, c'es
 t celui que nous suivrons dimanche\n\n\n\nVous devez être autonome en ter
 me de réparation courante (crevaison notamment)\, de boisson\, de nourrit
 ure\, d’éclairage. Merci de venir avec un vélo adapté et en bon état
  (transmission\, pneus\, freins). Le port du casque est très vivement rec
 ommandé. La sortie est gratuite et ouverte à toutes et à tous\, encadr
 ée par les bénévoles de l’ACP.\n\n
ATTACH;FMTTYPE=image/jpeg:https://www.audax-club-parisien.com/wp-content/u
 ploads/2022/12/BRM400.jpeg
CATEGORIES:Initiation
LOCATION:Rotonde Stalingrad\, 6-8 Pl. de la Bataille de Stalingrad\, PARIS\
 , 75019\, France
X-APPLE-STRUCTURED-LOCATION;VALUE=URI;X-ADDRESS=6-8 Pl. de la Bataille de S
 talingrad\, PARIS\, 75019\, France;X-APPLE-RADIUS=100;X-TITLE=Rotonde Stal
 ingrad:geo:0,0
END:VEVENT
BEGIN:VTIMEZONE
TZID:Europe/Paris
X-LIC-LOCATION:Europe/Paris
BEGIN:DAYLIGHT
DTSTART:20250330T030000
TZOFFSETFROM:+0100
TZOFFSETTO:+0200
TZNAME:CEST
END:DAYLIGHT
END:VTIMEZONE
END:VCALENDAR