BEGIN:VCALENDAR
VERSION:2.0
PRODID:-//wp-events-plugin.com//7.2.3.1//EN
TZID:Europe/Paris
X-WR-TIMEZONE:Europe/Paris
BEGIN:VEVENT
UID:140@audax-club-parisien.com
DTSTART;TZID=Europe/Paris:20261003T060000
DTEND;TZID=Europe/Paris:20261003T200000
DTSTAMP:20251129T174318Z
URL:https://www.audax-club-parisien.com/events/fleche-paris-charleville-20
 26/
SUMMARY:Flèche Paris Charleville
DESCRIPTION:Après Dieppe\, Le Havre et Nantes\, c’est Charleville-Mézi
 ères que nous avons choisi de vous faire découvrir à l’occasion du d
 épart groupé de la Flèche 2026. Ce n’est pas un BRM\, et l’inscript
 ion se fait comme n’importe quelle Flèche surnotre site https://myaccou
 nt.audax-club-parisien.com/ via l’onglet Flèches de France.\n\nVous pou
 rrez parcourir les 250 km (au départ de notre local rue Cardinet) en 10h5
 0 (délai Or\, arrivée avant 16h50) ou 13h50 (délai Argent\, arrivée av
 ant 19h50) : un ravito convivial vous attendra à l’arrivée. Si vous ar
 rivez après 20h\, nous ne serons plus là\, mais vous pourrez valider vot
 re Flèche en délai Bronze en faisant tamponner votre carte de route dans
  un commerce de votre choix à Charleville. Le tarif est le même que pour
  une Flèche sans départ groupé.\n\n10 € (7€ licenciés FFVélo)\n\n
 Attention\, cet événement n’est pas un BRM et n’est pas valable pour
  les préqualifications de Paris-Brest-Paris.
ATTACH;FMTTYPE=image/jpeg:https://www.audax-club-parisien.com/wp-content/u
 ploads/2025/11/Capture-decran-2025-11-29-a-18.42.28.png
CATEGORIES:Flèche de France
END:VEVENT
BEGIN:VTIMEZONE
TZID:Europe/Paris
X-LIC-LOCATION:Europe/Paris
BEGIN:DAYLIGHT
DTSTART:20260329T030000
TZOFFSETFROM:+0100
TZOFFSETTO:+0200
TZNAME:CEST
END:DAYLIGHT
END:VTIMEZONE
END:VCALENDAR