BEGIN:VCALENDAR
VERSION:2.0
PRODID:-//wp-events-plugin.com//7.2.3.1//EN
TZID:Europe/Paris
X-WR-TIMEZONE:Europe/Paris
BEGIN:VEVENT
UID:137@audax-club-parisien.com
DTSTART;TZID=Europe/Paris:20260912T050000
DTEND;TZID=Europe/Paris:20260913T210000
DTSTAMP:20251129T175852Z
URL:https://www.audax-club-parisien.com/events/brm-600-darsene-lupin-2026/
SUMMARY:BRM 600 d'Arsène Lupin
DESCRIPTION:Si vous avez loupé les 1000 de l’été ou si vous avez envie
  de vous confronter à un 600km après toute une saison estivale d’entra
 înement\, vous serez au mieux de votre forme pour un parcours aimablement
  vallonné qui vous promènera entre les lieux emblématiques des aventure
 s d’Arsène Lupin. Ce sera donc un aller-retour à l’Aiguille Creuse d
 ’Etretat\, au départ et à l’arrivée de Paris.\n\nDélai 40 h max 
 – 10 € (7€ licenciés FFVélo)\n\nVous pouvez vous inscrire dès à 
 présent sur&nbsp\;notre site
ATTACH;FMTTYPE=image/jpeg:https://www.audax-club-parisien.com/wp-content/u
 ploads/2025/11/Capture-decran-2025-11-29-a-18.38.19.png
CATEGORIES:BRM,BRM600
END:VEVENT
BEGIN:VTIMEZONE
TZID:Europe/Paris
X-LIC-LOCATION:Europe/Paris
BEGIN:DAYLIGHT
DTSTART:20260329T030000
TZOFFSETFROM:+0100
TZOFFSETTO:+0200
TZNAME:CEST
END:DAYLIGHT
END:VTIMEZONE
END:VCALENDAR