BEGIN:VCALENDAR
VERSION:2.0
PRODID:-//wp-events-plugin.com//7.2.3.1//EN
TZID:Europe/Paris
X-WR-TIMEZONE:Europe/Paris
BEGIN:VEVENT
UID:84@audax-club-parisien.com
DTSTART;TZID=Europe/Paris:20250330T070000
DTEND;TZID=Europe/Paris:20250330T203000
DTSTAMP:20250301T150155Z
URL:https://www.audax-club-parisien.com/events/brm-200-de-paname-2025/
SUMMARY:BRM 200 de Paname
DESCRIPTION:Retour aux sources pour l'Audax Club PARISIEN : un BRM au dépa
 rt et à l’arrivée de Paris\, d'où son petit nom\, le 200 de Paname 
 😉.\n\nVous pourrez partir entre 7h et 8h depuis le gymnase Biancotto\, 
 mis gracieusement à disposition par la Mairie de Paris avec l'aide logist
 ique de la Mairie du 17ème arrondissement. On vous y servira une boisson 
 chose et des bricoles à grignoter avant le départ et vous y retirerez la
  carte de route à tamponner aux différents "contrôles" (les check point
 s !).\n\nLa trace vous emmènera faire un joli tour dans le Vexin via Pont
 oise\, Vétheuil\, La Roche-Guyon (CP1)\, Magny-en-Vexin\, Chaumont-en-Vex
 in (CP2)\, Nesles-la-Vallée\, L'Isle-Adam (CP3) avant d'arriver à Paris 
 par la forêt de Montmorency et l'Île-Saint-Denis.\n\nOn vous recevra à 
 l'arrivée dans notre local 138 rue Cardinet\, juste devant la gare de Pon
 t-Cardinet. Et là\, coup de tampon final et ravito soigné à notre faço
 n.\n\nNos bénévoles se mettront en quatre pour vous faire passée une su
 per journée de vélo\, venez nombreuses et nombreux !\n\nLes inscriptions
  se font ICI. Vous trouverez la feuille de route téléchargeable là\n\n
ATTACH;FMTTYPE=image/jpeg:https://www.audax-club-parisien.com/wp-content/u
 ploads/2025/01/Image_BRM200_format-calendrier.png
CATEGORIES:BRM,BRM200
LOCATION:Centre Sportif Léon Biancotto\, 8 Av. de la Porte de Clichy\, PAR
 IS\, 75017\, Paris\, France
GEO:48.896353;2.312309
X-APPLE-STRUCTURED-LOCATION;VALUE=URI;X-ADDRESS=8 Av. de la Porte de Clichy
 \, PARIS\, 75017\, Paris\, France;X-APPLE-RADIUS=100;X-TITLE=Centre Sporti
 f Léon Biancotto:geo:48.896353,2.312309
END:VEVENT
BEGIN:VTIMEZONE
TZID:Europe/Paris
X-LIC-LOCATION:Europe/Paris
BEGIN:DAYLIGHT
DTSTART:20250330T030000
TZOFFSETFROM:+0100
TZOFFSETTO:+0200
TZNAME:CEST
END:DAYLIGHT
END:VTIMEZONE
END:VCALENDAR