BEGIN:VCALENDAR
VERSION:2.0
PRODID:-//wp-events-plugin.com//7.2.3.1//EN
TZID:Europe/Paris
X-WR-TIMEZONE:Europe/Paris
BEGIN:VEVENT
UID:75@audax-club-parisien.com
DTSTART;TZID=Europe/Paris:20240907T080000
DTEND;TZID=Europe/Paris:20240913T200000
DTSTAMP:20240826T195752Z
URL:https://www.audax-club-parisien.com/events/brevet-gravel-du-tourmagne/
SUMMARY:Brevet Gravel du Tourmagne
DESCRIPTION:Lancez-vous sur les traces d’un duo de pionniers du cyclotour
 isme\, Léon Giran-Max et Marie-Antoine Barret\, un Parisien et un Marseil
 lais qui\, en 1897\, ont relié Melun à Nîmes à vélo\, en neuf étapes
  et environ 1000 kilomètres\, sur des routes de campagne.\n\nLe détail e
 st ici.&nbsp\;\n\nInscription en ligne&nbsp\;: https://myaccount.audax-clu
 b-parisien.com/\n\nPour en savoir plus\, lisez attentivement le RÈGLEMENT
  DU BREVET GRAVEL TOURMAGNE.
ATTACH;FMTTYPE=image/jpeg:https://www.audax-club-parisien.com/wp-content/u
 ploads/2024/04/Brevet-Gravel-Tourmagne-09.jpg
END:VEVENT
BEGIN:VTIMEZONE
TZID:Europe/Paris
X-LIC-LOCATION:Europe/Paris
BEGIN:DAYLIGHT
DTSTART:20240331T030000
TZOFFSETFROM:+0100
TZOFFSETTO:+0200
TZNAME:CEST
END:DAYLIGHT
END:VTIMEZONE
END:VCALENDAR