BEGIN:VCALENDAR
VERSION:2.0
PRODID:-//wp-events-plugin.com//7.2.3.1//EN
TZID:Europe/Paris
X-WR-TIMEZONE:Europe/Paris
BEGIN:VEVENT
UID:105@audax-club-parisien.com
DTSTART;TZID=Europe/Paris:20250906T070000
DTEND;TZID=Europe/Paris:20250912T190000
DTSTAMP:20250114T204810Z
URL:https://www.audax-club-parisien.com/events/brevel-gravel-tourmagne/
SUMMARY:Brevet Gravel Tourmagne
DESCRIPTION:\n 	950km gravel de Melun à Nîmes en moins de 156h !\n 	Un d
 épart samedi 6 septembre 2025 à 7h\, arrivée avant le vendredi 12 septe
 mbre 2025 à 19h.\n 	Accueil dès le vendredi 5 septembre 18h avec possibi
 lité de couchage gratuit sur place dans un lit picot\, petit déjeuner co
 mplet au départ\, et ravito soigné à l’arrivée vendredi 12 septembre
  entre 11h et 19h.\n 	Un bidon siglé et une sacoche foodpouch Zéfal vous
  sont gracieusement offerts par l’Association du Tourmagne.\n 	Une histo
 ire plus que centenaire et un cadeau unique pour celles et ceux qui réuss
 issent le brevet.\n\nLe parcours conjugue&nbsp\;70% de petites routes ou p
 istes cyclables avec 30% de chemins\,&nbsp\;sentiers et autres surfaces no
 n bitumées. Il ne comporte&nbsp\;pas de grande difficulté technique\, il
  peut être parcouru par des cyclistes sans expérience approfondie du gra
 vel&nbsp\;\; mais il présente néanmoins un&nbsp\;dénivelé important da
 ns les deux derniers tiers&nbsp\;: une bonne condition physique est indisp
 ensable.\nÉquipement: trace gravel\, privilégier les&nbsp\;pneus à cram
 pons de 35mm minimum.&nbsp\;Il est impératif de prévoir de&nbsp\;petits 
 braquets&nbsp\;(ratio de 1 minimum).\nATTENTION&nbsp\;: Un GPS est OBLIGAT
 OIRE&nbsp\;pour enregistrer la trace GPX à renvoyer aux organisateurs pou
 r homologation du Brevet Gravel Tourmagne. Aucun participant ne sera homol
 ogué si l’enregistrement GPX n’est pas envoyé ou n’est pas complet
 .\nTarif&nbsp\;: 20€\, réduction de 3€ pour les licenciés de la Féd
 ération Française de Cyclotourisme (FFVélo).\nInscription en ligne&nbsp
 \;:&nbsp\;https://myaccount.audax-club-parisien.com/\nLe départ aura lieu
  depuis l’espace Jacques Marinelli (champion cycliste et ancien maire de
  Melun)\, 2 rue Jacques Marinelli (anciennement rue Doré) à Melun\nLe li
 eu exact de l’arrivée à Nîmes vous sera communiqué ultérieurement.\
 nPour en savoir plus\, lisez attentivement le&nbsp\;RÈGLEMENT DU BREVET G
 RAVEL TOURMAGNE.\n&nbsp\;\n\nSi vous voulez en savoir plus :&nbsp\;page pe
 rmanente du Brevet Tourmagne
ATTACH;FMTTYPE=image/jpeg:https://www.audax-club-parisien.com/wp-content/u
 ploads/2025/01/Capture-decran-2025-01-13-a-20.58.54.png
CATEGORIES:Brevet Tourmagne,BRM
LOCATION:Complexe sportif Jacques Marinelli\, 2 rue Jacques Marinelli (anci
 ennement rue Doré)\, Melun\, France
GEO:48.530204;2.663129
X-APPLE-STRUCTURED-LOCATION;VALUE=URI;X-ADDRESS=2 rue Jacques Marinelli (an
 ciennement rue Doré)\, Melun\, France;X-APPLE-RADIUS=100;X-TITLE=Complexe
  sportif Jacques Marinelli:geo:48.530204,2.663129
END:VEVENT
BEGIN:VTIMEZONE
TZID:Europe/Paris
X-LIC-LOCATION:Europe/Paris
BEGIN:DAYLIGHT
DTSTART:20250330T030000
TZOFFSETFROM:+0100
TZOFFSETTO:+0200
TZNAME:CEST
END:DAYLIGHT
END:VTIMEZONE
END:VCALENDAR