BEGIN:VCALENDAR
VERSION:2.0
PRODID:-//wp-events-plugin.com//7.2.3.1//EN
TZID:Europe/Paris
X-WR-TIMEZONE:Europe/Paris
BEGIN:VEVENT
UID:80@audax-club-parisien.com
DTSTART;TZID=Europe/Paris:20240927T070000
DTEND;TZID=Europe/Paris:20240928T070000
DTSTAMP:20240920T081848Z
URL:https://www.audax-club-parisien.com/events/%f0%9f%8f%b9-fleche-paris-l
 e-havre-%f0%9f%8f%b9/
SUMMARY:🏹 FLÈCHE PARIS-LE HAVRE
DESCRIPTION:Départs groupés vendredi 27 et samedi 28 septembre 2024.\nAcc
 ueil ravito au Havre samedi entre 15h et 19h\n\nC’est quoi l’idée&nbs
 p\;?\n\nLes Flèches de France comme Paris-Le Havre sont des randonnées p
 ermanentes qu’on fait quand on veut\, selon le délai de son choix&nbsp\
 ;: Or\, Argent ou Bronze (comme aux JO&nbsp\;!). Pour comprendre comment 
 ça fonctionne d’habitude\, c’est là !\n\nMais exceptionnellement\, n
 ous avons décidé de faire des départs groupés pour une arrivée collec
 tive au Havre avec un chouette ravito d’accueil au bord de la mer\, tout
  ça pour la modeste somme de 7 € (4€ si vous avez une licence FFVÉLO
  valide).\n\nL’idée\, c’est de partir de Paris pour arriver au Havre 
 samedi entre 15h et 19h\, donc selon vos envies et votre niveau\, vous cho
 isissez un des 3 horaires suivants&nbsp\;: \n\n 	Vendredi 7h \n 	Samedi 5h
 \n 	Samedi 7h\n\nLe départ&nbsp\;: Ces 3 départ se feront au départ de 
 notre club-house\, 138 bd Cardinet\, Paris 17ème. On vous y accueille 1 d
 emi-heure avant le départ pour vous donner votre carte de route\, et vous
  pourrez même prendre une boisson chaude\, 1 jus et une part de fabuleux 
 brownie à la crème de marron…\n\nLa trace est disponible ici : Elle fa
 it 255km pour 1400m+.\n\nDurant votre parcours\, vous serez en totale auto
 nomie\, comme sur toutes nos organisations : vous devez gérer vos pauses\
 , votre alimentation\, votre hydratation\,&nbsp\; vos éventuels soucis m
 écaniques… Prenez donc quelques provisions de secours et des outils bas
 iques (pompe\, multi-tool\, démonte-pneus\, chambres à air\, rustines…
 ).\n\nLa carte de route&nbsp\;: au départ\, on vous remet un carton vert\
 , avec des noms de villes en face de cases qui attendent un tampon&nbsp\;:
  vous allez passer dans ces villes sur le parcours et il faudra vous arrê
 ter dans un commerce\, n’importe lequel\, pour demander un coup de tampo
 n du commerce en question\, &nbsp\;ce qui sert de preuve de passage. En g
 énéral\, on demande dans la boulangerie ou la supérette où on en profi
 te pour se ravitailler.\n\nL’arrivée&nbsp\;: vous serez accueillis par 
 les bénévoles de l’Audax Club Parisien pour un ravito généreux et co
 nvivial. Le lieu exact vous sera donné en même temps que la Trace GPX à
  J-7.\n\nSÉCURITÉ&nbsp\;: Le parcours pouvant s’effectuer partiellemen
 t de nuit\, il est IMPÉRATIF de partir avec un gilet rétro réfléchissa
 nt et des éclairages avant et arrière puissants et fonctionnels. Le port
  du casque est très vivement recommandé.\n\nVous devez respecter le code
  de la route\, faire preuve de prudence et posséder une assurance de resp
 onsabilité civile (dommages aux tiers).\n\nCONTACT&nbsp\;: Pour communiqu
 er entre participants ou directement avec les organisateurs\, on vous comm
 uniquera un lien pour un groupe WhatsApp une semaine avant le départ\,&nb
 sp\; avec le mail récapitulatif et la trace GPX à J-7.\n\nComment s’in
 scrire&nbsp\;? Vous allez sur notre site d'inscription \, vous vous connec
 tez où créez votre compte\, choisissez la Flèche Paris-Le Havre dans le
 s Flèches de France et renseignez manuellement votre date et heure de dé
 part. Si vous choisissez un des 3 horaires de départ groupé\, on ne vous
  enverra pas la carte de route mais on vous la donnera au départ. Cochez 
 quand même l’option d’envoi\, juste pour pouvoir avancer dans le logi
 ciel. &nbsp\;Le paiement se fait en ligne.\n\n\n\n99 participants max. par
  départ&nbsp\;: on vous attend nombreuses et nombreux&nbsp\;!
ATTACH;FMTTYPE=image/jpeg:https://www.audax-club-parisien.com/wp-content/u
 ploads/2024/09/Paris-Le-Havre.jpg
CATEGORIES:Flèche de France
LOCATION:Club House Audax Club Parisien\, 138\, bd Cardinet\, PARIS 17\, Fr
 ance
GEO:48.887189;2.313901
X-APPLE-STRUCTURED-LOCATION;VALUE=URI;X-ADDRESS=138\, bd Cardinet\, PARIS 1
 7\, France;X-APPLE-RADIUS=100;X-TITLE=Club House Audax Club Parisien:geo:4
 8.887189,2.313901
END:VEVENT
BEGIN:VTIMEZONE
TZID:Europe/Paris
X-LIC-LOCATION:Europe/Paris
BEGIN:DAYLIGHT
DTSTART:20240331T030000
TZOFFSETFROM:+0100
TZOFFSETTO:+0200
TZNAME:CEST
END:DAYLIGHT
END:VTIMEZONE
END:VCALENDAR